BEGIN:VCALENDAR
VERSION:2.0
PRODID:-//Steel Challenge by Zapach prochu - ECPv5.2.0//NONSGML v1.0//EN
CALSCALE:GREGORIAN
METHOD:PUBLISH
X-WR-CALNAME:Steel Challenge by Zapach prochu
X-ORIGINAL-URL:https://steelchallenge.pl
X-WR-CALDESC:Wydarzenia na Steel Challenge by Zapach prochu
BEGIN:VTIMEZONE
TZID:UTC
BEGIN:STANDARD
TZOFFSETFROM:+0000
TZOFFSETTO:+0000
TZNAME:UTC
DTSTART:20210101T000000
END:STANDARD
END:VTIMEZONE
BEGIN:VEVENT
DTSTART;TZID=UTC:20210626T090000
DTEND;TZID=UTC:20210626T170000
DTSTAMP:20260420T080950
CREATED:20210319T085056Z
LAST-MODIFIED:20210319T085056Z
UID:1075-1624698000-1624726800@steelchallenge.pl
SUMMARY:Steel Challenge by Zapach Prochu\, 4/2021
DESCRIPTION:
URL:https://steelchallenge.pl/event/steel-challenge-by-zapach-prochu-4-2021/
LOCATION:STRZELNICA CZAPLA\, LUBLEWO\, Wojska Polskiego 30\, Lublewo\, Poland
END:VEVENT
END:VCALENDAR